BEGIN:VCALENDAR
VERSION:2.0
PRODID:-//Rotary Club of Longview WA - ECPv6.15.20//NONSGML v1.0//EN
CALSCALE:GREGORIAN
METHOD:PUBLISH
X-ORIGINAL-URL:https://longviewrotary.com
X-WR-CALDESC:Events for Rotary Club of Longview WA
REFRESH-INTERVAL;VALUE=DURATION:PT1H
X-Robots-Tag:noindex
X-PUBLISHED-TTL:PT1H
BEGIN:VTIMEZONE
TZID:America/Los_Angeles
BEGIN:DAYLIGHT
TZOFFSETFROM:-0800
TZOFFSETTO:-0700
TZNAME:PDT
DTSTART:20240310T100000
END:DAYLIGHT
BEGIN:STANDARD
TZOFFSETFROM:-0700
TZOFFSETTO:-0800
TZNAME:PST
DTSTART:20241103T090000
END:STANDARD
BEGIN:DAYLIGHT
TZOFFSETFROM:-0800
TZOFFSETTO:-0700
TZNAME:PDT
DTSTART:20250309T100000
END:DAYLIGHT
BEGIN:STANDARD
TZOFFSETFROM:-0700
TZOFFSETTO:-0800
TZNAME:PST
DTSTART:20251102T090000
END:STANDARD
BEGIN:DAYLIGHT
TZOFFSETFROM:-0800
TZOFFSETTO:-0700
TZNAME:PDT
DTSTART:20260308T100000
END:DAYLIGHT
BEGIN:STANDARD
TZOFFSETFROM:-0700
TZOFFSETTO:-0800
TZNAME:PST
DTSTART:20261101T090000
END:STANDARD
END:VTIMEZONE
BEGIN:VEVENT
DTSTART;TZID=America/Los_Angeles:20250816T110000
DTEND;TZID=America/Los_Angeles:20250816T220000
DTSTAMP:20260423T110707
CREATED:20250609T025430Z
LAST-MODIFIED:20250609T034319Z
UID:5888-1755342000-1755381600@longviewrotary.com
SUMMARY:Crafted Beer Festival
DESCRIPTION:Nosh on amazing local food! \n\nsample locally brewed beers & wine \n\n Enjoy a full day of music! \n\n have fun with friends\n\n\n\n\n\nJoin in on the FUN!\n\n\n\n\n\n\n\nBEER & FOOD FESTIVAL\n\n\n\n\n\n\n\nsaturday – august 16th \n\n\n\ncivic circle park\, longview WA\n\n\n\nBuy tickets now!
URL:https://longviewrotary.com/event/crafted-beer-festival/
LOCATION:R.A. Long Park at the Longview Civic Circle\, 1445 17th Ave\, Longview\, Washington\, 98632
CATEGORIES:Upcoming Events
ATTACH;FMTTYPE=image/png:https://longviewrotary.com/wp-content/uploads/2024/06/SquirrelCrafted-Transparent-Updated-3.22.24.png
END:VEVENT
BEGIN:VEVENT
DTSTART;TZID=America/Los_Angeles:20250816T110000
DTEND;TZID=America/Los_Angeles:20250816T220000
DTSTAMP:20260423T110708
CREATED:20250609T022145Z
LAST-MODIFIED:20250609T023437Z
UID:5883-1755342000-1755381600@longviewrotary.com
SUMMARY:Squirrel fest
DESCRIPTION:Squirrel bridge tours  *live music face- painting magic show *games    bouncy houses *gifts *crafts *food  *fun for all ages! \n\n\n\nthis year’s squirrel fest & crafted brew fest have been merged!\n\n\n\n\nsame fun and entertaining events taking place on the same day! \n\n\n\n\n\nsame fun and entertaining events taking place on the same day! \n\n\n\n\n\n\n\n\nclick for more info\n\n\n\n\n\nsaturday – august 16th\n\n\n\ncivic circle park\, longview wA\n\n\n\n\n\n\nget your photo with sandy
URL:https://longviewrotary.com/event/squirrel-fest/
LOCATION:R.A. Long Park at the Longview Civic Circle\, 1445 17th Ave\, Longview\, Washington\, 98632
CATEGORIES:Upcoming Events
ATTACH;FMTTYPE=image/png:https://longviewrotary.com/wp-content/uploads/2024/06/squirrel-fest-logo.png
END:VEVENT
BEGIN:VEVENT
DTSTART;TZID=America/Los_Angeles:20250601T080000
DTEND;TZID=America/Los_Angeles:20250630T150000
DTSTAMP:20260423T110708
CREATED:20250616T160010Z
LAST-MODIFIED:20250616T160019Z
UID:5912-1748764800-1751295600@longviewrotary.com
SUMMARY:June Events In Cowlitz County
DESCRIPTION:Here’s What Happening for June Events in Cowlitz County visit here for more info.
URL:https://longviewrotary.com/event/june-events-in-cowlitz-county/
CATEGORIES:Upcoming Events
ATTACH;FMTTYPE=image/png:https://longviewrotary.com/wp-content/uploads/2025/06/June-2025-Events-pg-1-1.png
END:VEVENT
BEGIN:VEVENT
DTSTART;TZID=America/Los_Angeles:20250515T173000
DTEND;TZID=America/Los_Angeles:20250515T183000
DTSTAMP:20260423T110708
CREATED:20250205T005159Z
LAST-MODIFIED:20250418T043938Z
UID:5649-1747330200-1747333800@longviewrotary.com
SUMMARY: Learn to save a life: Naloxone Training
DESCRIPTION:LOWER Columbia COLLEGE STUDENT CENTER First FLOOR\, ROOM 120 / LEARN TO SAVE A LIFE FROM OVERDOSE!
URL:https://longviewrotary.com/event/learn-to-save-a-life-naloxone-training/
LOCATION:Lower Columbia College Student Center\, 1600 Maple\, Longview\, Washington\, 98632\, United States
CATEGORIES:Naloxone Training
ATTACH;FMTTYPE=image/png:https://longviewrotary.com/wp-content/uploads/2025/02/LONGVIEW-5-15-2025-Skyler-Schrader.png
END:VEVENT
BEGIN:VEVENT
DTSTART;TZID=America/Los_Angeles:20250501T100000
DTEND;TZID=America/Los_Angeles:20250531T190000
DTSTAMP:20260423T110708
CREATED:20250301T074125Z
LAST-MODIFIED:20250506T030032Z
UID:5677-1746093600-1748718000@longviewrotary.com
SUMMARY:May Events in Cowlitz County
DESCRIPTION:Here’s What Happening in Cowlitz County
URL:https://longviewrotary.com/event/may-events-in-cowlitz-county/
CATEGORIES:Upcoming Events
ATTACH;FMTTYPE=image/png:https://longviewrotary.com/wp-content/uploads/2025/02/may1.png
END:VEVENT
END:VCALENDAR